BEGIN:VCALENDAR
VERSION:2.0
PRODID:-//Village of Harris - ECPv6.15.20//NONSGML v1.0//EN
CALSCALE:GREGORIAN
METHOD:PUBLISH
X-WR-CALNAME:Village of Harris
X-ORIGINAL-URL:https://harris.ca
X-WR-CALDESC:Events for Village of Harris
REFRESH-INTERVAL;VALUE=DURATION:PT1H
X-Robots-Tag:noindex
X-PUBLISHED-TTL:PT1H
BEGIN:VTIMEZONE
TZID:America/Regina
BEGIN:STANDARD
TZOFFSETFROM:-0600
TZOFFSETTO:-0600
TZNAME:CST
DTSTART:20240101T000000
END:STANDARD
END:VTIMEZONE
BEGIN:VEVENT
DTSTART;VALUE=DATE:20251030
DTEND;VALUE=DATE:20251101
DTSTAMP:20260425T133332
CREATED:20251008T155131Z
LAST-MODIFIED:20251008T162333Z
UID:1305-1761793200-1761879599@harris.ca
SUMMARY:Flu Clinic
DESCRIPTION:
URL:https://harris.ca/event/flu-clinic/
LOCATION:Becker Hall\, 214 Main St\, Harris\, S0L1K0\, Canada
CATEGORIES:Adult,Family
END:VEVENT
END:VCALENDAR